BEGIN:VCALENDAR
VERSION:2.0
PRODID:-//ASU System - ECPv6.15.20//NONSGML v1.0//EN
CALSCALE:GREGORIAN
METHOD:PUBLISH
X-ORIGINAL-URL:https://asusystem.edu
X-WR-CALDESC:Events for ASU System
REFRESH-INTERVAL;VALUE=DURATION:PT1H
X-Robots-Tag:noindex
X-PUBLISHED-TTL:PT1H
BEGIN:VTIMEZONE
TZID:America/Chicago
BEGIN:DAYLIGHT
TZOFFSETFROM:-0600
TZOFFSETTO:-0500
TZNAME:CDT
DTSTART:20250309T080000
END:DAYLIGHT
BEGIN:STANDARD
TZOFFSETFROM:-0500
TZOFFSETTO:-0600
TZNAME:CST
DTSTART:20251102T070000
END:STANDARD
BEGIN:DAYLIGHT
TZOFFSETFROM:-0600
TZOFFSETTO:-0500
TZNAME:CDT
DTSTART:20260308T080000
END:DAYLIGHT
BEGIN:STANDARD
TZOFFSETFROM:-0500
TZOFFSETTO:-0600
TZNAME:CST
DTSTART:20261101T070000
END:STANDARD
BEGIN:DAYLIGHT
TZOFFSETFROM:-0600
TZOFFSETTO:-0500
TZNAME:CDT
DTSTART:20270314T080000
END:DAYLIGHT
BEGIN:STANDARD
TZOFFSETFROM:-0500
TZOFFSETTO:-0600
TZNAME:CST
DTSTART:20271107T070000
END:STANDARD
END:VTIMEZONE
BEGIN:VEVENT
DTSTART;TZID=America/Chicago:20260312T103000
DTEND;TZID=America/Chicago:20260312T130000
DTSTAMP:20260419T074239
CREATED:20260311T170140Z
LAST-MODIFIED:20260311T170405Z
UID:10000008-1773311400-1773320400@asusystem.edu
SUMMARY:ASU System Board of Trustees Special Meeting
DESCRIPTION:The Arkansas State University System Board of Trustees will hold a special meeting at 10:30 a.m. Thursday\, March 12\, at the ASU System Office in Little Rock. \nThe agenda and proposed resolutions may be accessed here. \nTo view the meeting by Teams videoconference\, click here.
URL:https://asusystem.edu/event/asu-system-board-of-trustees-special-meeting-2/
LOCATION:ASU System Office\, 501 Woodlane St.\, Suite 600\, Little Rock\, 72201\, United States
CATEGORIES:Board of Trustees Meeting
ATTACH;FMTTYPE=image/png:https://asusystem.edu/wp-content/uploads/2025/10/ASUS8-copy.jpg-1.png
ORGANIZER;CN="Jeff Hankins":MAILTO:jhankins@asusystem.edu
END:VEVENT
END:VCALENDAR