BEGIN:VCALENDAR
VERSION:2.0
PRODID:-//ASU System - ECPv6.15.20//NONSGML v1.0//EN
CALSCALE:GREGORIAN
METHOD:PUBLISH
X-ORIGINAL-URL:https://asusystem.edu
X-WR-CALDESC:Events for ASU System
REFRESH-INTERVAL;VALUE=DURATION:PT1H
X-Robots-Tag:noindex
X-PUBLISHED-TTL:PT1H
BEGIN:VTIMEZONE
TZID:America/Chicago
BEGIN:DAYLIGHT
TZOFFSETFROM:-0600
TZOFFSETTO:-0500
TZNAME:CDT
DTSTART:20250309T080000
END:DAYLIGHT
BEGIN:STANDARD
TZOFFSETFROM:-0500
TZOFFSETTO:-0600
TZNAME:CST
DTSTART:20251102T070000
END:STANDARD
BEGIN:DAYLIGHT
TZOFFSETFROM:-0600
TZOFFSETTO:-0500
TZNAME:CDT
DTSTART:20260308T080000
END:DAYLIGHT
BEGIN:STANDARD
TZOFFSETFROM:-0500
TZOFFSETTO:-0600
TZNAME:CST
DTSTART:20261101T070000
END:STANDARD
BEGIN:DAYLIGHT
TZOFFSETFROM:-0600
TZOFFSETTO:-0500
TZNAME:CDT
DTSTART:20270314T080000
END:DAYLIGHT
BEGIN:STANDARD
TZOFFSETFROM:-0500
TZOFFSETTO:-0600
TZNAME:CST
DTSTART:20271107T070000
END:STANDARD
END:VTIMEZONE
BEGIN:VEVENT
DTSTART;TZID=America/Chicago:20260427T100000
DTEND;TZID=America/Chicago:20260427T120000
DTSTAMP:20260425T070301
CREATED:20260424T161246Z
LAST-MODIFIED:20260424T161246Z
UID:10000009-1777284000-1777291200@asusystem.edu
SUMMARY:ASU System Board of Trustees Special Meeting
DESCRIPTION:The Arkansas State University System Board of Trustees will hold a special meeting at 10 a.m. Monday\, April 27\, via Teams videoconference. The agenda and proposed resolutions may be accessed here. \n  \nBelow are the link and passcode to view the meeting by Teams videoconference: \n  \nJoin: https://teams.microsoft.com/meet/28497803947268?p=BIpe0G6PXl3AYYjzY7 \n\nMeeting ID: 284 978 039 472 68 \nPasscode: 7gU2gS2Q
URL:https://asusystem.edu/event/asu-system-board-of-trustees-special-meeting-3/
CATEGORIES:Board of Trustees Meeting
ATTACH;FMTTYPE=image/png:https://asusystem.edu/wp-content/uploads/2025/10/ASUS8-copy.jpg-1.png
ORGANIZER;CN="Jeff Hankins":MAILTO:jhankins@asusystem.edu
LOCATION:https://asusystem.edu/event/asu-system-board-of-trustees-special-meeting-3/
END:VEVENT
END:VCALENDAR