BEGIN:VCALENDAR
VERSION:2.0
PRODID:-//ASU System - ECPv6.15.20//NONSGML v1.0//EN
CALSCALE:GREGORIAN
METHOD:PUBLISH
X-WR-CALNAME:ASU System
X-ORIGINAL-URL:https://asusystem.edu
X-WR-CALDESC:Events for ASU System
REFRESH-INTERVAL;VALUE=DURATION:PT1H
X-Robots-Tag:noindex
X-PUBLISHED-TTL:PT1H
BEGIN:VTIMEZONE
TZID:America/Chicago
BEGIN:DAYLIGHT
TZOFFSETFROM:-0600
TZOFFSETTO:-0500
TZNAME:CDT
DTSTART:20240310T080000
END:DAYLIGHT
BEGIN:STANDARD
TZOFFSETFROM:-0500
TZOFFSETTO:-0600
TZNAME:CST
DTSTART:20241103T070000
END:STANDARD
BEGIN:DAYLIGHT
TZOFFSETFROM:-0600
TZOFFSETTO:-0500
TZNAME:CDT
DTSTART:20250309T080000
END:DAYLIGHT
BEGIN:STANDARD
TZOFFSETFROM:-0500
TZOFFSETTO:-0600
TZNAME:CST
DTSTART:20251102T070000
END:STANDARD
BEGIN:DAYLIGHT
TZOFFSETFROM:-0600
TZOFFSETTO:-0500
TZNAME:CDT
DTSTART:20260308T080000
END:DAYLIGHT
BEGIN:STANDARD
TZOFFSETFROM:-0500
TZOFFSETTO:-0600
TZNAME:CST
DTSTART:20261101T070000
END:STANDARD
END:VTIMEZONE
BEGIN:VEVENT
DTSTART;TZID=America/Chicago:20251210T170000
DTEND;TZID=America/Chicago:20251210T200000
DTSTAMP:20260421T112425
CREATED:20251210T205252Z
LAST-MODIFIED:20251210T205252Z
UID:10000007-1765386000-1765396800@asusystem.edu
SUMMARY:ASU System Board of Trustees Special Meeting
DESCRIPTION:The Arkansas State University System Board of Trustees will meet in special session via Teams videoconference at 5 p.m. Wednesday\, Dec. 10. \nHere is the link to view the meeting by Teams videoconference: \nASU System Board of Trustees Special Meeting | Meeting-Join | Microsoft Teams
URL:https://asusystem.edu/event/asu-system-board-of-trustees-special-meeting/
END:VEVENT
END:VCALENDAR